BEGIN:VCALENDAR
VERSION:2.0
PRODID:-//aire-balears - ECPv6.15.20//NONSGML v1.0//EN
CALSCALE:GREGORIAN
METHOD:PUBLISH
X-WR-CALNAME:aire-balears
X-ORIGINAL-URL:https://aire-balears.es
X-WR-CALDESC:Eventos para aire-balears
REFRESH-INTERVAL;VALUE=DURATION:PT1H
X-Robots-Tag:noindex
X-PUBLISHED-TTL:PT1H
BEGIN:VTIMEZONE
TZID:UTC
BEGIN:STANDARD
TZOFFSETFROM:+0000
TZOFFSETTO:+0000
TZNAME:UTC
DTSTART:20230101T000000
END:STANDARD
END:VTIMEZONE
BEGIN:VEVENT
DTSTART;TZID=UTC:20241108T053000
DTEND;TZID=UTC:20241109T203000
DTSTAMP:20260424T162023
CREATED:20240903T110316Z
LAST-MODIFIED:20241018T120622Z
UID:4301-1731043800-1731184200@aire-balears.es
SUMMARY:VI Jornadas Neumólogicas de AIRE
DESCRIPTION:[vc_row equal_height=”yes” content_placement=”middle” css=”.vc_custom_1727699034266{background-position: center !important;background-repeat: no-repeat !important;background-size: cover !important;}”][vc_column css=”.vc_custom_1727699079524{background-position: center !important;background-repeat: no-repeat !important;background-size: cover !important;}”][vc_single_image image=”4303″ img_size=”full” alignment=”center” css=””][/vc_column][/vc_row][vc_row equal_height=”yes” content_placement=”middle”][vc_column][gt3_spacing height=”50px”][/vc_column][/vc_row][vc_row equal_height=”yes” content_placement=”middle”][vc_column][vc_column_text css=””]\nVI Jornadas Neumólogicas de AIRE\n[/vc_column_text][vc_column_text css=””]\nPrograma provisional\n[/vc_column_text][vc_empty_space height=”10px”][vc_column_text css_animation=”top-to-bottom” css=””]\nViernes 8 y Sábado 9 de noviembre de 2024\n[/vc_column_text][vc_empty_space height=”10px”][vc_column_text css=””]\nCOLEGIO OFICIAL DE MÉDICOS DE PALMA DE MALLORCA\n[/vc_column_text][vc_empty_space height=”10px”][/vc_column][/vc_row][vc_row equal_height=”yes” content_placement=”middle”][vc_column][gt3_spacing height=”50″][/vc_column][/vc_row][vc_row equal_height=”yes” content_placement=”top”][vc_column width=”1/2″][vc_column_text css=””]\nViernes 8\n[/vc_column_text][vc_empty_space height=”20px”][vc_empty_space height=”20px”][vc_column_text css=””]\n\n17:00h. – 17.30h. RECOGIDA DE  DOCUMENTACIÓN\n17.30h. PRESENTACIÓN\nDr. Salvador Pons (Presidente de AIRE)\n17.10h.-19.00h. MESA VIA AEREA\nModera: Dra. A. Fuster. FEA HUSLL\n17.10h.-17.40h. NOVEDADES GOLD 2024\nDr. Alvar Agustí. Chairman GUIAS GOLD\n18-40h.-18.10h. BIOLOGICOS EN LA EPOC: NI TAN CERCA\, NI TAN LEJOS\nDr. Borja G- Cossio. Jefe Sección de HUSE\n18.10h.-18:35h. DILEMA: INCREMENTAR DOSIS DE ICS vs AÑADIR LAMA EN ASMA\nDr. José Serrano. FEA H INCA\n18.35h.-19:00h. COLOQUIO POSTERIOR\n19.00h.-19:30h. PAUSA CAFÉ\n19:30h.-21.00h. MESA HIPERTENSION PULMONAR\nModera: Dr. Ernest Sala.  Jefe de Servicio HUSE\n19:30h.-20:00h. HIPERTENSION PULMONAR TROMBOEMBOLICA CRONICA\nDr. Alex Cruz. FEA Cadiología\, Hospital 12 Octubre\, Madrid\n20:00h.-20.30h. NOVEDADES EN HAP TRAS CONGRESO MUNDIAL 2024\nDr. David Crémer.  FEA Cardiología HUSLL\nCOLOQUIO POSTERIOR\n\n[/vc_column_text][/vc_column][vc_column width=”1/2″][vc_column_text css=””]\nSábado 9\n[/vc_column_text][vc_empty_space height=”20px”][vc_empty_space height=”20px”][vc_column_text css=””]\n\nPRIMERA SESION\nModera: Dra. Alicia Binimelis.  FEA HUSE\n10:00h. – 10:30h. SEGUIMIENTO DELPACIENTE EPID EN CONSULTA DE ENFERMERIA\nDUE. Meritxell López. Servicio NML HUSE\n10:30h.-11:15h. ACTUALIZACION EN TRASPLANTE DE PULMON\nDr. Jaume Sauleda. Jefe de Sección HUSE\n11:15h.-11:45h. BIOPSIA PULMONAR ECO GUIADA\nDr. Antonio Albaladejo. FEA Hospital MANACOR\n11:45h.-12:15h. PAUSA CAFÉ\nSEGUNDA SESIÓN \nModera: Dr. Salvador Pons-Presidente de AIRE\n\n12:00h.-14:15h. CASOS CLÍNICOS PRESENTADOS POR RESIDENTES DE NEUMOLOGÍA \n\nLos residentes expondrán\, con un máximo de 10 minutos un caso clínico. Luego se dispondrá de 5 minutos de preguntas sobre el caso por el tribunal y la audiencia.\nSe otorgará un solo premio que consistirá en la asistencia al próximo congreso SEPAR en Bilbao 2025\nSe remitirá información sobre la forma de envió y la fecha limite.\nTribunal: Neumolog@s de los Hospitales de Manacor\, Inca\, Eivissa y Menorca.\n\n\n14:30h. COMIDA DE LA ASOCIACIÓN AIRE \n\n[/vc_column_text][/vc_column][/vc_row][vc_row full_width=”stretch_row” css=”.vc_custom_1728990306885{background-color: #36A9E000 !important;}” el_class=”banda”][vc_column][vc_custom_heading text=”Patrocina:” font_container=”tag:h3|font_size:21PX|text_align:left|color:%23192041|line_height:36PX” use_theme_fonts=”yes” css=”.vc_custom_1683026437327{margin-bottom: 10px !important;}”][vc_empty_space height=”20px”][/vc_column][vc_column width=”1/5″][vc_column_text css=””][/vc_column_text][/vc_column][vc_column width=”1/5″][vc_column_text css=””][/vc_column_text][/vc_column][vc_column width=”1/5″][vc_column_text css=””][/vc_column_text][/vc_column][vc_column width=”1/5″][vc_column_text css=””][/vc_column_text][/vc_column][vc_column width=”1/5″][vc_column_text css=””][/vc_column_text][/vc_column][vc_column width=”1/5″][vc_column_text css=””][/vc_column_text][/vc_column][vc_column width=”1/5″][vc_column_text css=””][/vc_column_text][/vc_column][vc_column width=”1/5″][vc_column_text css=””][/vc_column_text][/vc_column][vc_column width=”1/5″][vc_column_text css=””][/vc_column_text][/vc_column][vc_column width=”1/5″][vc_column_text css=””][/vc_column_text][/vc_column][/vc_row]
URL:https://aire-balears.es/event/vi-jornadas-neumologicas-de-aire/
LOCATION:Colegio Oficial de Médicos de Palma de Mallorca\, www.comib.com/\, Palma de Mallorca\, Baleares\, 07012
CATEGORIES:Jornadas
ATTACH;FMTTYPE=image/jpeg:https://aire-balears.es/wp-content/uploads/2024/09/aire-torre-castillo-compress.jpg
END:VEVENT
END:VCALENDAR