BEGIN:VCALENDAR
VERSION:2.0
PRODID:-//aire-balears - ECPv6.15.20//NONSGML v1.0//EN
CALSCALE:GREGORIAN
METHOD:PUBLISH
X-ORIGINAL-URL:https://aire-balears.es
X-WR-CALDESC:Eventos para aire-balears
REFRESH-INTERVAL;VALUE=DURATION:PT1H
X-Robots-Tag:noindex
X-PUBLISHED-TTL:PT1H
BEGIN:VTIMEZONE
TZID:UTC
BEGIN:STANDARD
TZOFFSETFROM:+0000
TZOFFSETTO:+0000
TZNAME:UTC
DTSTART:20220101T000000
END:STANDARD
END:VTIMEZONE
BEGIN:VEVENT
DTSTART;TZID=UTC:20230918T183000
DTEND;TZID=UTC:20230919T143000
DTSTAMP:20260422T080859
CREATED:20230908T114314Z
LAST-MODIFIED:20230908T114314Z
UID:4220-1695061800-1695133800@aire-balears.es
SUMMARY:Curso práctico de formación en Crio-Biopsia mediastínica
DESCRIPTION:[vc_row gap=”20″][vc_column width=”1/3″][vc_single_image image=”4229″ img_size=”large”][vc_empty_space height=”50px”][vc_btn title=”Descargar programa” style=”custom” custom_background=”#36a9e0″ custom_text=”#ffffff” shape=”square” align=”left” i_icon_fontawesome=”” button_block=”true” add_icon=”true” link=”url:https%3A%2F%2Faire-balears.es%2Fwp-content%2Fuploads%2F2023%2F09%2FCurso-CRYOEBUS-H-Son-Espases-18-19-Septiembre-2023.pptx”][/vc_column][vc_column width=”2/3″][vc_column_text]\nCurso de Crio-EBUS\n[/vc_column_text][vc_empty_space height=”10px”][vc_column_text]\n18-19 Septiembre 2023\nColegio Oficial de Médicos de Baleares (COMIB)\ny Hospital de Son Espases (HUSE)\n[/vc_column_text][vc_empty_space height=”20px”][vc_tta_accordion active_section=”1″ collapsible_all=”true” title=”Agenda”][vc_tta_section title=”LUNES\, 18 DE SEPTIEMBRE – COMIB” tab_id=”1675271528828-362d2d08-ca3e”][vc_column_text]\n\n18:30h.-19:00h. Presentación y recibimiento.\nFinger food de bienvenida.\n19:00h.-20:00h. Utilización de la criobiopsia en neumología más allá de la  criobiopsia transbronquial: CRYO-EBUS\n(Dr. Miguel Ariza / Dr. Javier Pérez Pallarés) Turno de preguntas y conclusiones.\n\n[/vc_column_text][/vc_tta_section][vc_tta_section title=”MARTES\, 19 DE SEPTIEMBRE – HUSE” tab_id=”1675271528840-2c8a5818-2794″][vc_column_text]\n\n09:15h.-09:30h. Presentación de los casos a realizar \n09:30h.-13:30h. Realización de casos en pacientes reales \n13:30h.-14:30h. Presentación de casos realizados (anatomía patológica) \n14:30h.-14:45h. Cierre de la jornada.\n\n[/vc_column_text][/vc_tta_section][vc_tta_section title=”Organizadores” tab_id=”1694171260834-0fb34cda-213f”][vc_column_text]\n\nDr. Antonio Albaladejo.\nDr. Salvador Pons.\nDr. Jaume Sauleda.\n\n[/vc_column_text][/vc_tta_section][vc_tta_section title=”Profesores” tab_id=”1694171292522-e912f018-c845″][vc_column_text]\n\nDr. Javier Pérez Pallarés\nDr. Miguel Ariza\n\n[/vc_column_text][/vc_tta_section][/vc_tta_accordion][vc_empty_space height=”20px”][vc_row_inner][vc_column_inner width=”1/4″][vc_column_text][/vc_column_text][/vc_column_inner][vc_column_inner width=”2/3″][vc_column_text]\nLunes 18 sin límite de aforo.\nMartes 19 plazas limitadas: preferencia a neumólogos más vinculados con la neumología intervencionista de cada hospital\, y según posibilidad de plazas completar por orden de solicitud.\nInscripciones al mail de AIRE antes del 14/09 especificando si vendrán al cocktail.\n[/vc_column_text][/vc_column_inner][/vc_row_inner][vc_empty_space height=”20px”][vc_row_inner content_placement=”top”][vc_column_inner][vc_custom_heading text=”Organiza:” font_container=”tag:h3|font_size:21PX|text_align:left|color:%23192041|line_height:36PX” use_theme_fonts=”yes” css=”.vc_custom_1694171354417{margin-bottom: 10px !important;}”][vc_column_text][/vc_column_text][gt3_spacing height=”32px”][/vc_column_inner][/vc_row_inner][vc_empty_space height=”50px”][/vc_column][/vc_row]
URL:https://aire-balears.es/event/curso-practico-de-formacion-en-crio-biopsia-mediastinica/
LOCATION:Hospital Universitari Son Espases\, Carretera de Valldemossa\, 79\, Palma de Mallorca\, Illes Balears\, 07120\, España
CATEGORIES:Cursos
ATTACH;FMTTYPE=image/png:https://aire-balears.es/wp-content/uploads/2023/09/curso-crio-ebus.png
END:VEVENT
END:VCALENDAR